Package: occugene Version: 1.67.0 Command: /Library/Frameworks/R.framework/Resources/bin/R CMD INSTALL occugene StartedAt: 2025-02-09 15:02:33 -0500 (Sun, 09 Feb 2025) EndedAt: 2025-02-09 15:02:42 -0500 (Sun, 09 Feb 2025) EllapsedTime: 9.0 seconds RetCode: 0 Status: OK