Package: occugene Version: 1.67.0 Command: /Library/Frameworks/R.framework/Resources/bin/R CMD build --keep-empty-dirs --no-resave-data occugene StartedAt: 2025-02-12 17:40:42 -0500 (Wed, 12 Feb 2025) EndedAt: 2025-02-12 17:40:57 -0500 (Wed, 12 Feb 2025) EllapsedTime: 14.3 seconds RetCode: 0 Status: OK PackageFile: occugene_1.67.0.tar.gz PackageFileSize: 194.5 KiB