Package: occugene Version: 1.67.0 Command: /home/biocbuild/bbs-3.21-bioc/R/bin/R CMD build --keep-empty-dirs --no-resave-data occugene StartedAt: 2025-02-12 18:23:52 -0500 (Wed, 12 Feb 2025) EndedAt: 2025-02-12 18:23:57 -0500 (Wed, 12 Feb 2025) EllapsedTime: 5.0 seconds RetCode: 0 Status: OK PackageFile: occugene_1.67.0.tar.gz PackageFileSize: 195 KiB