Package: occugene Version: 1.67.0 Command: E:\biocbuild\bbs-3.21-bioc\R\bin\R.exe CMD INSTALL occugene StartedAt: 2025-02-09 15:24:58 -0500 (Sun, 09 Feb 2025) EndedAt: 2025-02-09 15:25:08 -0500 (Sun, 09 Feb 2025) EllapsedTime: 10.0 seconds RetCode: 0 Status: OK