Package: octad Version: 1.9.0 Maintainer: E. Chekalin MaintainerEmail: eygen.chekalin at gmail.com git_url: https://git.bioconductor.org/packages/octad git_branch: devel git_last_commit: 33eb152 git_last_commit_date: 2024-10-29 11:16:05 -0500 (Tue, 29 Oct 2024)