Package: octad Version: 1.9.0 Command: rm -rf octad.buildbin-libdir && mkdir octad.buildbin-libdir && /Users/biocbuild/BBS/utils/build-universal.sh octad_1.9.0.tar.gz /Library/Frameworks/R.framework/Resources/bin/R octad.buildbin-libdir StartedAt: 2025-02-10 22:25:45 -0500 (Mon, 10 Feb 2025) EndedAt: 2025-02-10 22:26:10 -0500 (Mon, 10 Feb 2025) EllapsedTime: 24.5 seconds RetCode: 0 Status: OK PackageFile: octad_1.9.0.tgz PackageFileSize: 1.503 MiB