Package: octad Version: 1.9.0 Command: /Library/Frameworks/R.framework/Resources/bin/R CMD build --keep-empty-dirs --no-resave-data octad StartedAt: 2025-02-10 17:08:27 -0500 (Mon, 10 Feb 2025) EndedAt: 2025-02-10 17:09:52 -0500 (Mon, 10 Feb 2025) EllapsedTime: 85.0 seconds RetCode: 0 Status: OK PackageFile: octad_1.9.0.tar.gz PackageFileSize: 1.428 MiB