Package: octad Version: 1.9.0 Command: /Library/Frameworks/R.framework/Resources/bin/R CMD INSTALL octad StartedAt: 2025-02-10 15:25:13 -0500 (Mon, 10 Feb 2025) EndedAt: 2025-02-10 15:25:36 -0500 (Mon, 10 Feb 2025) EllapsedTime: 22.7 seconds RetCode: 0 Status: OK