Package: octad Version: 1.9.0 Command: /home/biocbuild/R/R/bin/R CMD build --keep-empty-dirs --no-resave-data octad StartedAt: 2025-01-29 00:55:42 -0000 (Wed, 29 Jan 2025) EndedAt: 2025-01-29 01:02:22 -0000 (Wed, 29 Jan 2025) EllapsedTime: 400.6 seconds RetCode: 0 Status: OK PackageFile: octad_1.9.0.tar.gz PackageFileSize: 1.192 MiB