Package: octad Version: 1.9.0 Command: /home/biocbuild/R/R/bin/R CMD check --install=check:octad.install-out.txt --library=/home/biocbuild/R/R/site-library --no-vignettes --timings octad_1.9.0.tar.gz StartedAt: 2025-01-28 13:25:27 -0000 (Tue, 28 Jan 2025) EndedAt: 2025-01-28 13:40:57 -0000 (Tue, 28 Jan 2025) EllapsedTime: 929.4 seconds RetCode: 0 Status: WARNINGS CheckDir: octad.Rcheck Warnings: 5