Package: octad Version: 1.9.0 Command: /home/biocbuild/R/R/bin/R CMD INSTALL octad StartedAt: 2025-01-29 20:28:23 -0000 (Wed, 29 Jan 2025) EndedAt: 2025-01-29 20:29:39 -0000 (Wed, 29 Jan 2025) EllapsedTime: 76.4 seconds RetCode: 0 Status: OK