Package: octad Version: 1.9.0 Command: rm -rf octad.buildbin-libdir && mkdir octad.buildbin-libdir && /Users/biocbuild/BBS/utils/build-universal.sh octad_1.9.0.tar.gz /Library/Frameworks/R.framework/Resources/bin/R octad.buildbin-libdir StartedAt: 2025-02-10 01:06:26 -0500 (Mon, 10 Feb 2025) EndedAt: 2025-02-10 01:07:46 -0500 (Mon, 10 Feb 2025) EllapsedTime: 79.6 seconds RetCode: 0 Status: OK PackageFile: octad_1.9.0.tgz PackageFileSize: 1.386 MiB