Package: octad Version: 1.9.0 Command: /Library/Frameworks/R.framework/Resources/bin/R CMD check --install=check:octad.install-out.txt --library=/Library/Frameworks/R.framework/Resources/library --no-vignettes --timings octad_1.9.0.tar.gz StartedAt: 2025-02-09 22:23:40 -0500 (Sun, 09 Feb 2025) EndedAt: 2025-02-09 22:32:48 -0500 (Sun, 09 Feb 2025) EllapsedTime: 547.6 seconds RetCode: 1 Status: ERROR CheckDir: octad.Rcheck Warnings: NA