Package: octad Version: 1.9.0 Command: /Library/Frameworks/R.framework/Resources/bin/R CMD INSTALL octad StartedAt: 2025-02-09 15:40:25 -0500 (Sun, 09 Feb 2025) EndedAt: 2025-02-09 15:41:40 -0500 (Sun, 09 Feb 2025) EllapsedTime: 75.5 seconds RetCode: 0 Status: OK