Package: octad Version: 1.9.0 Command: /home/biocbuild/bbs-3.21-bioc/R/bin/R CMD build --keep-empty-dirs --no-resave-data octad StartedAt: 2025-02-10 18:37:02 -0500 (Mon, 10 Feb 2025) EndedAt: 2025-02-10 18:40:36 -0500 (Mon, 10 Feb 2025) EllapsedTime: 214.3 seconds RetCode: 0 Status: OK PackageFile: octad_1.9.0.tar.gz PackageFileSize: 1.328 MiB