Package: octad Version: 1.9.0 Command: /home/biocbuild/bbs-3.21-bioc/R/bin/R CMD check --install=check:octad.install-out.txt --library=/home/biocbuild/bbs-3.21-bioc/R/site-library --timings octad_1.9.0.tar.gz StartedAt: 2025-02-11 01:01:40 -0500 (Tue, 11 Feb 2025) EndedAt: 2025-02-11 01:11:28 -0500 (Tue, 11 Feb 2025) EllapsedTime: 588.0 seconds RetCode: 1 Status: ERROR CheckDir: octad.Rcheck Warnings: NA