Package: octad Version: 1.9.0 Command: rm -rf octad.buildbin-libdir && mkdir octad.buildbin-libdir && E:\biocbuild\bbs-3.21-bioc\R\bin\R.exe CMD INSTALL --build --library=octad.buildbin-libdir octad_1.9.0.tar.gz StartedAt: 2025-02-11 08:31:09 -0500 (Tue, 11 Feb 2025) EndedAt: 2025-02-11 08:32:09 -0500 (Tue, 11 Feb 2025) EllapsedTime: 59.9 seconds RetCode: 0 Status: OK PackageFile: octad_1.9.0.zip PackageFileSize: 1.256 MiB