Package: octad Version: 1.9.0 Command: chmod a+r octad -R && E:\biocbuild\bbs-3.21-bioc\R\bin\R.exe --arch x64 CMD build --keep-empty-dirs --no-resave-data octad StartedAt: 2025-02-10 20:36:19 -0500 (Mon, 10 Feb 2025) EndedAt: 2025-02-10 20:47:58 -0500 (Mon, 10 Feb 2025) EllapsedTime: 699.0 seconds RetCode: 0 Status: OK PackageFile: octad_1.9.0.tar.gz PackageFileSize: 1.179 MiB