Package: octad Version: 1.9.0 Command: E:\biocbuild\bbs-3.21-bioc\R\bin\R.exe CMD check --no-multiarch --install=check:octad.install-out.txt --library=E:\biocbuild\bbs-3.21-bioc\R\library --no-vignettes --timings octad_1.9.0.tar.gz StartedAt: 2025-02-11 03:54:20 -0500 (Tue, 11 Feb 2025) EndedAt: 2025-02-11 04:02:38 -0500 (Tue, 11 Feb 2025) EllapsedTime: 497.7 seconds RetCode: 1 Status: ERROR CheckDir: octad.Rcheck Warnings: NA