Package: octad Version: 1.9.0 Command: E:\biocbuild\bbs-3.21-bioc\R\bin\R.exe CMD INSTALL octad StartedAt: 2025-02-10 16:56:44 -0500 (Mon, 10 Feb 2025) EndedAt: 2025-02-10 16:57:48 -0500 (Mon, 10 Feb 2025) EllapsedTime: 64.2 seconds RetCode: 0 Status: OK