Package: odseq Version: 1.35.0 Command: /Library/Frameworks/R.framework/Resources/bin/R CMD check --install=check:odseq.install-out.txt --library=/Library/Frameworks/R.framework/Resources/library --no-vignettes --timings odseq_1.35.0.tar.gz StartedAt: 2025-02-03 21:04:39 -0500 (Mon, 03 Feb 2025) EndedAt: 2025-02-03 21:05:31 -0500 (Mon, 03 Feb 2025) EllapsedTime: 51.7 seconds RetCode: 0 Status: OK CheckDir: odseq.Rcheck Warnings: 0