Package: odseq Version: 1.35.0 Command: /home/biocbuild/R/R/bin/R CMD INSTALL odseq StartedAt: 2025-01-29 19:49:09 -0000 (Wed, 29 Jan 2025) EndedAt: 2025-01-29 19:49:31 -0000 (Wed, 29 Jan 2025) EllapsedTime: 21.9 seconds RetCode: 0 Status: OK