Package: odseq Version: 1.35.0 Command: /Library/Frameworks/R.framework/Resources/bin/R CMD build --keep-empty-dirs --no-resave-data odseq StartedAt: 2025-02-09 17:47:22 -0500 (Sun, 09 Feb 2025) EndedAt: 2025-02-09 17:48:12 -0500 (Sun, 09 Feb 2025) EllapsedTime: 50.1 seconds RetCode: 0 Status: OK PackageFile: odseq_1.35.0.tar.gz PackageFileSize: 230.1 KiB