Package: odseq Version: 1.35.0 Command: /Library/Frameworks/R.framework/Resources/bin/R CMD check --install=check:odseq.install-out.txt --library=/Library/Frameworks/R.framework/Resources/library --no-vignettes --timings odseq_1.35.0.tar.gz StartedAt: 2025-02-09 22:23:42 -0500 (Sun, 09 Feb 2025) EndedAt: 2025-02-09 22:26:14 -0500 (Sun, 09 Feb 2025) EllapsedTime: 151.2 seconds RetCode: 0 Status: OK CheckDir: odseq.Rcheck Warnings: 0