Package: odseq Version: 1.35.0 Command: /Library/Frameworks/R.framework/Resources/bin/R CMD INSTALL odseq StartedAt: 2025-02-09 15:16:43 -0500 (Sun, 09 Feb 2025) EndedAt: 2025-02-09 15:17:05 -0500 (Sun, 09 Feb 2025) EllapsedTime: 21.8 seconds RetCode: 0 Status: OK