Package: odseq Version: 1.35.0 Command: /home/biocbuild/bbs-3.21-bioc/R/bin/R CMD build --keep-empty-dirs --no-resave-data odseq StartedAt: 2025-02-09 18:27:59 -0500 (Sun, 09 Feb 2025) EndedAt: 2025-02-09 18:28:29 -0500 (Sun, 09 Feb 2025) EllapsedTime: 30.1 seconds RetCode: 0 Status: OK PackageFile: odseq_1.35.0.tar.gz PackageFileSize: 229.6 KiB