Package: odseq Version: 1.35.0 Command: /home/biocbuild/bbs-3.21-bioc/R/bin/R CMD INSTALL odseq StartedAt: 2025-02-03 15:44:30 -0500 (Mon, 03 Feb 2025) EndedAt: 2025-02-03 15:44:46 -0500 (Mon, 03 Feb 2025) EllapsedTime: 16.5 seconds RetCode: 0 Status: OK