Package: odseq Version: 1.35.0 Command: rm -rf odseq.buildbin-libdir && mkdir odseq.buildbin-libdir && E:\biocbuild\bbs-3.21-bioc\R\bin\R.exe CMD INSTALL --build --library=odseq.buildbin-libdir odseq_1.35.0.tar.gz StartedAt: 2025-02-04 08:31:42 -0500 (Tue, 04 Feb 2025) EndedAt: 2025-02-04 08:32:02 -0500 (Tue, 04 Feb 2025) EllapsedTime: 19.6 seconds RetCode: 0 Status: OK PackageFile: odseq_1.35.0.zip PackageFileSize: 251.6 KiB