Package: odseq Version: 1.35.0 Command: E:\biocbuild\bbs-3.21-bioc\R\bin\R.exe CMD check --no-multiarch --install=check:odseq.install-out.txt --library=E:\biocbuild\bbs-3.21-bioc\R\library --no-vignettes --timings odseq_1.35.0.tar.gz StartedAt: 2025-02-04 04:10:00 -0500 (Tue, 04 Feb 2025) EndedAt: 2025-02-04 04:12:35 -0500 (Tue, 04 Feb 2025) EllapsedTime: 155.2 seconds RetCode: 0 Status: OK CheckDir: odseq.Rcheck Warnings: 0