Package: oligo Version: 1.71.0 Command: /Library/Frameworks/R.framework/Resources/bin/R CMD build --keep-empty-dirs --no-resave-data oligo StartedAt: 2025-02-09 17:47:31 -0500 (Sun, 09 Feb 2025) EndedAt: 2025-02-09 17:47:34 -0500 (Sun, 09 Feb 2025) EllapsedTime: 3.2 seconds RetCode: 1 Status: ERROR PackageFile: None PackageFileSize: NA