Package: oligo Version: 1.71.0 Command: /home/biocbuild/bbs-3.21-bioc/R/bin/R CMD build --keep-empty-dirs --no-resave-data oligo StartedAt: 2025-02-09 18:28:02 -0500 (Sun, 09 Feb 2025) EndedAt: 2025-02-09 18:28:03 -0500 (Sun, 09 Feb 2025) EllapsedTime: 1.0 seconds RetCode: 1 Status: ERROR PackageFile: None PackageFileSize: NA