Package: oligo Version: 1.71.0 Command: /home/biocbuild/bbs-3.21-bioc/R/bin/R CMD INSTALL oligo StartedAt: 2025-02-12 15:20:50 -0500 (Wed, 12 Feb 2025) EndedAt: 2025-02-12 15:20:51 -0500 (Wed, 12 Feb 2025) EllapsedTime: 1.5 seconds RetCode: 1 Status: ERROR