Package: oligoClasses Version: 1.69.0 Command: /Library/Frameworks/R.framework/Resources/bin/R CMD build --keep-empty-dirs --no-resave-data oligoClasses StartedAt: 2025-02-09 17:08:59 -0500 (Sun, 09 Feb 2025) EndedAt: 2025-02-09 17:09:00 -0500 (Sun, 09 Feb 2025) EllapsedTime: 1.0 seconds RetCode: 0 Status: OK PackageFile: oligoClasses_1.69.0.tar.gz PackageFileSize: 364.6 KiB