Package: oligoClasses Version: 1.69.0 Command: /Library/Frameworks/R.framework/Resources/bin/R CMD check --install=check:oligoClasses.install-out.txt --library=/Library/Frameworks/R.framework/Resources/library --no-vignettes --timings oligoClasses_1.69.0.tar.gz StartedAt: 2025-02-12 20:32:50 -0500 (Wed, 12 Feb 2025) EndedAt: 2025-02-12 20:32:54 -0500 (Wed, 12 Feb 2025) EllapsedTime: 4.0 seconds RetCode: 1 Status: ERROR CheckDir: oligoClasses.Rcheck Warnings: NA