Package: oligoClasses Version: 1.69.0 Command: /home/biocbuild/R/R/bin/R CMD check --install=check:oligoClasses.install-out.txt --library=/home/biocbuild/R/R/site-library --no-vignettes --timings oligoClasses_1.69.0.tar.gz StartedAt: 2025-01-28 13:25:49 -0000 (Tue, 28 Jan 2025) EndedAt: 2025-01-28 13:25:55 -0000 (Tue, 28 Jan 2025) EllapsedTime: 6.0 seconds RetCode: 1 Status: ERROR CheckDir: oligoClasses.Rcheck Warnings: NA