Package: oligoClasses Version: 1.69.0 Command: rm -rf oligoClasses.buildbin-libdir && mkdir oligoClasses.buildbin-libdir && /Users/biocbuild/BBS/utils/build-universal.sh oligoClasses_1.69.0.tar.gz /Library/Frameworks/R.framework/Resources/bin/R oligoClasses.buildbin-libdir StartedAt: 2025-02-13 00:49:13 -0500 (Thu, 13 Feb 2025) EndedAt: 2025-02-13 00:50:05 -0500 (Thu, 13 Feb 2025) EllapsedTime: 52.1 seconds RetCode: 0 Status: OK PackageFile: oligoClasses_1.69.0.tgz PackageFileSize: 1.373 MiB