Package: oligoClasses Version: 1.69.0 Command: /Library/Frameworks/R.framework/Resources/bin/R CMD INSTALL oligoClasses StartedAt: 2025-02-09 15:13:00 -0500 (Sun, 09 Feb 2025) EndedAt: 2025-02-09 15:13:48 -0500 (Sun, 09 Feb 2025) EllapsedTime: 47.7 seconds RetCode: 0 Status: OK