Package: oligoClasses Version: 1.69.0 Command: /home/biocbuild/bbs-3.21-bioc/R/bin/R CMD build --keep-empty-dirs --no-resave-data oligoClasses StartedAt: 2025-02-12 18:23:59 -0500 (Wed, 12 Feb 2025) EndedAt: 2025-02-12 18:24:00 -0500 (Wed, 12 Feb 2025) EllapsedTime: 1.0 seconds RetCode: 0 Status: OK PackageFile: oligoClasses_1.69.0.tar.gz PackageFileSize: 364.6 KiB