Package: oligoClasses Version: 1.69.0 Command: rm -rf oligoClasses.buildbin-libdir && mkdir oligoClasses.buildbin-libdir && E:\biocbuild\bbs-3.21-bioc\R\bin\R.exe CMD INSTALL --build --library=oligoClasses.buildbin-libdir oligoClasses_1.69.0.tar.gz StartedAt: 2025-02-10 08:18:38 -0500 (Mon, 10 Feb 2025) EndedAt: 2025-02-10 08:22:27 -0500 (Mon, 10 Feb 2025) EllapsedTime: 228.8 seconds RetCode: 0 Status: OK PackageFile: oligoClasses_1.69.0.zip PackageFileSize: 1.378 MiB