Package: oligoClasses Version: 1.69.0 Command: E:\biocbuild\bbs-3.21-bioc\R\bin\R.exe CMD check --no-multiarch --install=check:oligoClasses.install-out.txt --library=E:\biocbuild\bbs-3.21-bioc\R\library --no-vignettes --timings oligoClasses_1.69.0.tar.gz StartedAt: 2025-02-10 03:42:10 -0500 (Mon, 10 Feb 2025) EndedAt: 2025-02-10 03:42:14 -0500 (Mon, 10 Feb 2025) EllapsedTime: 4.0 seconds RetCode: 1 Status: ERROR CheckDir: oligoClasses.Rcheck Warnings: NA