Package: oligoClasses Version: 1.69.0 Command: E:\biocbuild\bbs-3.21-bioc\R\bin\R.exe CMD INSTALL oligoClasses StartedAt: 2025-02-09 16:07:16 -0500 (Sun, 09 Feb 2025) EndedAt: 2025-02-09 16:09:43 -0500 (Sun, 09 Feb 2025) EllapsedTime: 146.9 seconds RetCode: 0 Status: OK