Package: omXplore Version: 1.1.0 Command: /Library/Frameworks/R.framework/Resources/bin/R CMD build --keep-empty-dirs --no-resave-data omXplore StartedAt: 2025-02-09 17:09:44 -0500 (Sun, 09 Feb 2025) EndedAt: 2025-02-09 17:10:08 -0500 (Sun, 09 Feb 2025) EllapsedTime: 23.3 seconds RetCode: 0 Status: OK PackageFile: omXplore_1.1.0.tar.gz PackageFileSize: 2.004 MiB