Package: omXplore Version: 1.1.0 Command: /home/biocbuild/R/R/bin/R CMD build --keep-empty-dirs --no-resave-data omXplore StartedAt: 2025-01-29 01:00:18 -0000 (Wed, 29 Jan 2025) EndedAt: 2025-01-29 01:01:56 -0000 (Wed, 29 Jan 2025) EllapsedTime: 98.2 seconds RetCode: 0 Status: OK PackageFile: omXplore_1.1.0.tar.gz PackageFileSize: 2.13 MiB