Package: omXplore Version: 1.1.0 Command: /home/biocbuild/R/R/bin/R CMD check --install=check:omXplore.install-out.txt --library=/home/biocbuild/R/R/site-library --no-vignettes --timings omXplore_1.1.0.tar.gz StartedAt: 2025-01-28 13:29:22 -0000 (Tue, 28 Jan 2025) EndedAt: 2025-01-28 13:37:44 -0000 (Tue, 28 Jan 2025) EllapsedTime: 502.0 seconds RetCode: 0 Status: WARNINGS CheckDir: omXplore.Rcheck Warnings: 2