Package: omXplore Version: 1.1.0 Command: rm -rf omXplore.buildbin-libdir && mkdir omXplore.buildbin-libdir && /Users/biocbuild/BBS/utils/build-universal.sh omXplore_1.1.0.tar.gz /Library/Frameworks/R.framework/Resources/bin/R omXplore.buildbin-libdir StartedAt: 2025-02-10 01:06:46 -0500 (Mon, 10 Feb 2025) EndedAt: 2025-02-10 01:07:44 -0500 (Mon, 10 Feb 2025) EllapsedTime: 58.8 seconds RetCode: 0 Status: OK PackageFile: omXplore_1.1.0.tgz PackageFileSize: 1.527 MiB