Package: omXplore Version: 1.1.0 Command: /Library/Frameworks/R.framework/Resources/bin/R CMD check --install=check:omXplore.install-out.txt --library=/Library/Frameworks/R.framework/Resources/library --no-vignettes --timings omXplore_1.1.0.tar.gz StartedAt: 2025-02-03 22:12:06 -0500 (Mon, 03 Feb 2025) EndedAt: 2025-02-03 22:18:32 -0500 (Mon, 03 Feb 2025) EllapsedTime: 385.4 seconds RetCode: 0 Status: WARNINGS CheckDir: omXplore.Rcheck Warnings: 2