Package: omXplore Version: 1.1.0 Command: /home/biocbuild/bbs-3.21-bioc/R/bin/R CMD check --install=check:omXplore.install-out.txt --library=/home/biocbuild/bbs-3.21-bioc/R/site-library --timings omXplore_1.1.0.tar.gz StartedAt: 2025-02-05 01:03:15 -0500 (Wed, 05 Feb 2025) EndedAt: 2025-02-05 01:08:35 -0500 (Wed, 05 Feb 2025) EllapsedTime: 319.5 seconds RetCode: 0 Status: WARNINGS CheckDir: omXplore.Rcheck Warnings: 2