Package: omXplore Version: 1.1.0 Command: E:\biocbuild\bbs-3.21-bioc\R\bin\R.exe CMD check --no-multiarch --install=check:omXplore.install-out.txt --library=E:\biocbuild\bbs-3.21-bioc\R\library --no-vignettes --timings omXplore_1.1.0.tar.gz StartedAt: 2025-02-04 04:12:36 -0500 (Tue, 04 Feb 2025) EndedAt: 2025-02-04 04:18:31 -0500 (Tue, 04 Feb 2025) EllapsedTime: 355.1 seconds RetCode: 0 Status: WARNINGS CheckDir: omXplore.Rcheck Warnings: 2