Package: omicade4 Version: 1.47.0 Command: /Library/Frameworks/R.framework/Resources/bin/R CMD build --keep-empty-dirs --no-resave-data omicade4 StartedAt: 2025-02-12 17:09:00 -0500 (Wed, 12 Feb 2025) EndedAt: 2025-02-12 17:09:15 -0500 (Wed, 12 Feb 2025) EllapsedTime: 15.2 seconds RetCode: 0 Status: OK PackageFile: omicade4_1.47.0.tar.gz PackageFileSize: 544.2 KiB