Package: omicade4 Version: 1.47.0 Command: /Library/Frameworks/R.framework/Resources/bin/R CMD INSTALL omicade4 StartedAt: 2025-02-10 15:10:33 -0500 (Mon, 10 Feb 2025) EndedAt: 2025-02-10 15:11:07 -0500 (Mon, 10 Feb 2025) EllapsedTime: 34.2 seconds RetCode: 0 Status: OK